BEGIN:VCALENDAR
VERSION:2.0
PRODID:-//The Beacon - ECPv6.15.20//NONSGML v1.0//EN
CALSCALE:GREGORIAN
METHOD:PUBLISH
X-ORIGINAL-URL:https://www.thebeaconcentre.org
X-WR-CALDESC:Events for The Beacon
REFRESH-INTERVAL;VALUE=DURATION:PT1H
X-Robots-Tag:noindex
X-PUBLISHED-TTL:PT1H
BEGIN:VTIMEZONE
TZID:UTC
BEGIN:STANDARD
TZOFFSETFROM:+0000
TZOFFSETTO:+0000
TZNAME:UTC
DTSTART:20260101T000000
END:STANDARD
END:VTIMEZONE
BEGIN:VEVENT
DTSTART;TZID=UTC:20270216T130000
DTEND;TZID=UTC:20270216T143000
DTSTAMP:20260423T204521
CREATED:20250922T111421Z
LAST-MODIFIED:20250922T111421Z
UID:10002806-1802782800-1802788200@www.thebeaconcentre.org
SUMMARY:Home Start Family Wellbeing group
DESCRIPTION:
URL:https://www.thebeaconcentre.org/whatson/home-start-family-wellbeing-group/2027-02-16/
END:VEVENT
BEGIN:VEVENT
DTSTART;TZID=UTC:20270216T183000
DTEND;TZID=UTC:20270216T183000
DTSTAMP:20260423T204521
CREATED:20250922T110459Z
LAST-MODIFIED:20250922T110459Z
UID:10002547-1802802600-1802802600@www.thebeaconcentre.org
SUMMARY:Irish Dancing
DESCRIPTION:
URL:https://www.thebeaconcentre.org/whatson/irish-dancing/2027-02-16/
END:VEVENT
BEGIN:VEVENT
DTSTART;TZID=UTC:20270217T093000
DTEND;TZID=UTC:20270217T123000
DTSTAMP:20260423T204521
CREATED:20250922T111638Z
LAST-MODIFIED:20250922T111638Z
UID:10003067-1802856600-1802867400@www.thebeaconcentre.org
SUMMARY:Headway
DESCRIPTION:
URL:https://www.thebeaconcentre.org/whatson/headway/2027-02-17/
END:VEVENT
END:VCALENDAR