BEGIN:VCALENDAR
VERSION:2.0
PRODID:-//The Beacon - ECPv6.15.20//NONSGML v1.0//EN
CALSCALE:GREGORIAN
METHOD:PUBLISH
X-ORIGINAL-URL:https://www.thebeaconcentre.org
X-WR-CALDESC:Events for The Beacon
REFRESH-INTERVAL;VALUE=DURATION:PT1H
X-Robots-Tag:noindex
X-PUBLISHED-TTL:PT1H
BEGIN:VTIMEZONE
TZID:UTC
BEGIN:STANDARD
TZOFFSETFROM:+0000
TZOFFSETTO:+0000
TZNAME:UTC
DTSTART:20250101T000000
END:STANDARD
END:VTIMEZONE
BEGIN:VEVENT
DTSTART;TZID=UTC:20260220T110000
DTEND;TZID=UTC:20260220T123000
DTSTAMP:20260419T154453
CREATED:20250922T113915Z
LAST-MODIFIED:20250922T113915Z
UID:10005028-1771585200-1771590600@www.thebeaconcentre.org
SUMMARY:Mothers in Mind
DESCRIPTION:
URL:https://www.thebeaconcentre.org/whatson/mothers-in-mind/2026-02-20/
END:VEVENT
BEGIN:VEVENT
DTSTART;TZID=UTC:20260220T133000
DTEND;TZID=UTC:20260220T160000
DTSTAMP:20260419T154453
CREATED:20250922T114115Z
LAST-MODIFIED:20250922T114115Z
UID:10005289-1771594200-1771603200@www.thebeaconcentre.org
SUMMARY:Tribe
DESCRIPTION:
URL:https://www.thebeaconcentre.org/whatson/tribe/2026-02-20/
END:VEVENT
BEGIN:VEVENT
DTSTART;TZID=UTC:20260221T090000
DTEND;TZID=UTC:20260221T113000
DTSTAMP:20260419T154453
CREATED:20250922T112414Z
LAST-MODIFIED:20250922T112414Z
UID:10004061-1771664400-1771673400@www.thebeaconcentre.org
SUMMARY:Kumon Maths & English
DESCRIPTION:
URL:https://www.thebeaconcentre.org/whatson/kumon-maths-english-2/2026-02-21/
END:VEVENT
BEGIN:VEVENT
DTSTART;TZID=UTC:20260221T093000
DTEND;TZID=UTC:20260221T123000
DTSTAMP:20260419T154453
CREATED:20250922T112611Z
LAST-MODIFIED:20250922T112611Z
UID:10004322-1771666200-1771677000@www.thebeaconcentre.org
SUMMARY:Soundwaves
DESCRIPTION:
URL:https://www.thebeaconcentre.org/whatson/soundwaves/2026-02-21/
END:VEVENT
BEGIN:VEVENT
DTSTART;TZID=UTC:20260224T150000
DTEND;TZID=UTC:20260224T163000
DTSTAMP:20260419T154453
CREATED:20240924T122511Z
LAST-MODIFIED:20250922T113730Z
UID:10004986-1771945200-1771950600@www.thebeaconcentre.org
SUMMARY:The Hub Youth group
DESCRIPTION:Join us for music\, games\, pool tables\, table tennis\, dodgeball\, Xbox & PlayStation\, our tuck shop and homemade cakes. \n\n\n\n\nFor years 7-11\, term time Tuesdays from 3pm-4.30pm. \nContact Sim by email: office@iscachurch.org\,uk for more details
URL:https://www.thebeaconcentre.org/whatson/the-hub-youth-group/2026-02-24/
LOCATION:The Beacon Centre
CATEGORIES:Socialising,Community,Youth
ATTACH;FMTTYPE=image/webp:https://www.thebeaconcentre.org/wp-content/uploads/2021/12/The_Hub.webp
END:VEVENT
END:VCALENDAR