BEGIN:VCALENDAR
VERSION:2.0
PRODID:-//The Beacon - ECPv6.15.20//NONSGML v1.0//EN
CALSCALE:GREGORIAN
METHOD:PUBLISH
X-ORIGINAL-URL:https://www.thebeaconcentre.org
X-WR-CALDESC:Events for The Beacon
REFRESH-INTERVAL;VALUE=DURATION:PT1H
X-Robots-Tag:noindex
X-PUBLISHED-TTL:PT1H
BEGIN:VTIMEZONE
TZID:Europe/London
BEGIN:DAYLIGHT
TZOFFSETFROM:+0000
TZOFFSETTO:+0100
TZNAME:BST
DTSTART:20250330T010000
END:DAYLIGHT
BEGIN:STANDARD
TZOFFSETFROM:+0100
TZOFFSETTO:+0000
TZNAME:GMT
DTSTART:20251026T010000
END:STANDARD
BEGIN:DAYLIGHT
TZOFFSETFROM:+0000
TZOFFSETTO:+0100
TZNAME:BST
DTSTART:20260329T010000
END:DAYLIGHT
BEGIN:STANDARD
TZOFFSETFROM:+0100
TZOFFSETTO:+0000
TZNAME:GMT
DTSTART:20261025T010000
END:STANDARD
BEGIN:DAYLIGHT
TZOFFSETFROM:+0000
TZOFFSETTO:+0100
TZNAME:BST
DTSTART:20270328T010000
END:DAYLIGHT
BEGIN:STANDARD
TZOFFSETFROM:+0100
TZOFFSETTO:+0000
TZNAME:GMT
DTSTART:20271031T010000
END:STANDARD
END:VTIMEZONE
BEGIN:VTIMEZONE
TZID:UTC
BEGIN:STANDARD
TZOFFSETFROM:+0000
TZOFFSETTO:+0000
TZNAME:UTC
DTSTART:20250101T000000
END:STANDARD
END:VTIMEZONE
BEGIN:VEVENT
DTSTART;TZID=Europe/London:20260129T093000
DTEND;TZID=Europe/London:20260129T111500
DTSTAMP:20260419T211145
CREATED:20240124T143512Z
LAST-MODIFIED:20250922T113612Z
UID:10004676-1769679000-1769685300@www.thebeaconcentre.org
SUMMARY:Tadpoles Toddler play group
DESCRIPTION:Tadpoles is a baby and toddler group for 0-5s at The Beacon Community Centre\, Beacon Lane\, every Thursday during term time from 9:30am – 11:15am.  Costs are £2 for 1 adult + 2 children\, and 50p per child extra. \nWe have a lovely outdoor and covered play area\, we usually do a craft activity\, have a snack time\, and enjoy singing each week\, as well as a variety of toys and activities to entertain. We love to welcome new people and our aim is to support and encourage each other – no cliques or perfect parents here!
URL:https://www.thebeaconcentre.org/whatson/tadpoles-toddlers-play-group/2026-01-29/
LOCATION:The Beacon Centre
CATEGORIES:Parent & Child
ATTACH;FMTTYPE=image/png:https://www.thebeaconcentre.org/wp-content/uploads/2020/01/Tadpoles_Toddler_Group.png
END:VEVENT
BEGIN:VEVENT
DTSTART;TZID=UTC:20260129T160000
DTEND;TZID=UTC:20260129T180000
DTSTAMP:20260419T211145
CREATED:20250922T112241Z
LAST-MODIFIED:20250922T112241Z
UID:10003796-1769702400-1769709600@www.thebeaconcentre.org
SUMMARY:Kumon Maths & English
DESCRIPTION:
URL:https://www.thebeaconcentre.org/whatson/kumon-maths-english/2026-01-29/
END:VEVENT
BEGIN:VEVENT
DTSTART;TZID=UTC:20260129T183000
DTEND;TZID=UTC:20260129T210000
DTSTAMP:20260419T211145
CREATED:20250922T111855Z
LAST-MODIFIED:20250922T111855Z
UID:10003273-1769711400-1769720400@www.thebeaconcentre.org
SUMMARY:Woodcraft
DESCRIPTION:
URL:https://www.thebeaconcentre.org/whatson/woodcraft/2026-01-29/
END:VEVENT
BEGIN:VEVENT
DTSTART;TZID=Europe/London:20260130T090000
DTEND;TZID=Europe/London:20260130T120000
DTSTAMP:20260419T211145
CREATED:20240124T150838Z
LAST-MODIFIED:20240229T125218Z
UID:10000111-1769763600-1769774400@www.thebeaconcentre.org
SUMMARY:Friday Cafe
DESCRIPTION:Our Friday Cafe is held in Hobnob Hall\, a light welcoming hall with two pool tables and plenty of sofas to relax on with a knitting table and a jigsaw/games table.   Exeter Foodbank\, plus free Tesco surplus food. All welcome at the Cafe\, 10am till 12noon!
URL:https://www.thebeaconcentre.org/whatson/friday-cafe/2026-01-30/
LOCATION:The Beacon Centre
CATEGORIES:Socialising
ATTACH;FMTTYPE=image/webp:https://www.thebeaconcentre.org/wp-content/uploads/2024/01/IMG_7523-copy.webp
END:VEVENT
BEGIN:VEVENT
DTSTART;TZID=UTC:20260130T110000
DTEND;TZID=UTC:20260130T123000
DTSTAMP:20260419T211145
CREATED:20250922T113915Z
LAST-MODIFIED:20250922T113915Z
UID:10005025-1769770800-1769776200@www.thebeaconcentre.org
SUMMARY:Mothers in Mind
DESCRIPTION:
URL:https://www.thebeaconcentre.org/whatson/mothers-in-mind/2026-01-30/
END:VEVENT
BEGIN:VEVENT
DTSTART;TZID=UTC:20260130T133000
DTEND;TZID=UTC:20260130T160000
DTSTAMP:20260419T211145
CREATED:20250922T114115Z
LAST-MODIFIED:20250922T114115Z
UID:10005286-1769779800-1769788800@www.thebeaconcentre.org
SUMMARY:Tribe
DESCRIPTION:
URL:https://www.thebeaconcentre.org/whatson/tribe/2026-01-30/
END:VEVENT
END:VCALENDAR