BEGIN:VCALENDAR
VERSION:2.0
PRODID:-//The Beacon - ECPv6.15.20//NONSGML v1.0//EN
CALSCALE:GREGORIAN
METHOD:PUBLISH
X-ORIGINAL-URL:https://www.thebeaconcentre.org
X-WR-CALDESC:Events for The Beacon
REFRESH-INTERVAL;VALUE=DURATION:PT1H
X-Robots-Tag:noindex
X-PUBLISHED-TTL:PT1H
BEGIN:VTIMEZONE
TZID:Europe/London
BEGIN:DAYLIGHT
TZOFFSETFROM:+0000
TZOFFSETTO:+0100
TZNAME:BST
DTSTART:20250330T010000
END:DAYLIGHT
BEGIN:STANDARD
TZOFFSETFROM:+0100
TZOFFSETTO:+0000
TZNAME:GMT
DTSTART:20251026T010000
END:STANDARD
BEGIN:DAYLIGHT
TZOFFSETFROM:+0000
TZOFFSETTO:+0100
TZNAME:BST
DTSTART:20260329T010000
END:DAYLIGHT
BEGIN:STANDARD
TZOFFSETFROM:+0100
TZOFFSETTO:+0000
TZNAME:GMT
DTSTART:20261025T010000
END:STANDARD
BEGIN:DAYLIGHT
TZOFFSETFROM:+0000
TZOFFSETTO:+0100
TZNAME:BST
DTSTART:20270328T010000
END:DAYLIGHT
BEGIN:STANDARD
TZOFFSETFROM:+0100
TZOFFSETTO:+0000
TZNAME:GMT
DTSTART:20271031T010000
END:STANDARD
END:VTIMEZONE
BEGIN:VTIMEZONE
TZID:UTC
BEGIN:STANDARD
TZOFFSETFROM:+0000
TZOFFSETTO:+0000
TZNAME:UTC
DTSTART:20250101T000000
END:STANDARD
END:VTIMEZONE
BEGIN:VEVENT
DTSTART;TZID=Europe/London:20260123T090000
DTEND;TZID=Europe/London:20260123T120000
DTSTAMP:20260419T223815
CREATED:20240124T150838Z
LAST-MODIFIED:20240229T125218Z
UID:10000110-1769158800-1769169600@www.thebeaconcentre.org
SUMMARY:Friday Cafe
DESCRIPTION:Our Friday Cafe is held in Hobnob Hall\, a light welcoming hall with two pool tables and plenty of sofas to relax on with a knitting table and a jigsaw/games table.   Exeter Foodbank\, plus free Tesco surplus food. All welcome at the Cafe\, 10am till 12noon!
URL:https://www.thebeaconcentre.org/whatson/friday-cafe/2026-01-23/
LOCATION:The Beacon Centre
CATEGORIES:Socialising
ATTACH;FMTTYPE=image/webp:https://www.thebeaconcentre.org/wp-content/uploads/2024/01/IMG_7523-copy.webp
END:VEVENT
BEGIN:VEVENT
DTSTART;TZID=UTC:20260123T110000
DTEND;TZID=UTC:20260123T123000
DTSTAMP:20260419T223815
CREATED:20250922T113915Z
LAST-MODIFIED:20250922T113915Z
UID:10005024-1769166000-1769171400@www.thebeaconcentre.org
SUMMARY:Mothers in Mind
DESCRIPTION:
URL:https://www.thebeaconcentre.org/whatson/mothers-in-mind/2026-01-23/
END:VEVENT
BEGIN:VEVENT
DTSTART;TZID=UTC:20260123T133000
DTEND;TZID=UTC:20260123T160000
DTSTAMP:20260419T223815
CREATED:20250922T114115Z
LAST-MODIFIED:20250922T114115Z
UID:10005285-1769175000-1769184000@www.thebeaconcentre.org
SUMMARY:Tribe
DESCRIPTION:
URL:https://www.thebeaconcentre.org/whatson/tribe/2026-01-23/
END:VEVENT
BEGIN:VEVENT
DTSTART;TZID=UTC:20260124T090000
DTEND;TZID=UTC:20260124T113000
DTSTAMP:20260419T223815
CREATED:20250922T112414Z
LAST-MODIFIED:20250922T112414Z
UID:10004057-1769245200-1769254200@www.thebeaconcentre.org
SUMMARY:Kumon Maths & English
DESCRIPTION:
URL:https://www.thebeaconcentre.org/whatson/kumon-maths-english-2/2026-01-24/
END:VEVENT
BEGIN:VEVENT
DTSTART;TZID=UTC:20260124T093000
DTEND;TZID=UTC:20260124T123000
DTSTAMP:20260419T223815
CREATED:20250922T112611Z
LAST-MODIFIED:20250922T112611Z
UID:10004318-1769247000-1769257800@www.thebeaconcentre.org
SUMMARY:Soundwaves
DESCRIPTION:
URL:https://www.thebeaconcentre.org/whatson/soundwaves/2026-01-24/
END:VEVENT
BEGIN:VEVENT
DTSTART;TZID=UTC:20260125T103000
DTEND;TZID=UTC:20260125T120000
DTSTAMP:20260419T223815
CREATED:20240229T141249Z
LAST-MODIFIED:20240410T131152Z
UID:10000639-1769337000-1769342400@www.thebeaconcentre.org
SUMMARY:Isca Church
DESCRIPTION:[vc_row type=”in_container” full_screen_row_position=”middle” column_margin=”default” column_direction=”default” column_direction_tablet=”default” column_direction_phone=”default” scene_position=”center” text_color=”dark” text_align=”left” row_border_radius=”none” row_border_radius_applies=”bg” overflow=”visible” overlay_strength=”0.3″ gradient_direction=”left_to_right” shape_divider_position=”bottom” bg_image_animation=”none”][vc_column column_padding=”no-extra-padding” column_padding_tablet=”inherit” column_padding_phone=”inherit” column_padding_position=”all” column_element_direction_desktop=”default” column_element_spacing=”default” desktop_text_alignment=”default” tablet_text_alignment=”default” phone_text_alignment=”default” background_color_opacity=”1″ background_hover_color_opacity=”1″ column_backdrop_filter=”none” column_shadow=”none” column_border_radius=”none” column_link_target=”_self” column_position=”default” gradient_direction=”left_to_right” overlay_strength=”0.3″ width=”1/2″ tablet_width_inherit=”default” animation_type=”default” bg_image_animation=”none” border_type=”simple” column_border_width=”none” column_border_style=”solid”][vc_column_text text_direction=”default”]\nWe are a warm welcoming church that is family to all\, seeing lives transformed by Jesus. If you’re new to Exeter\, just visiting or wanting to find out more about Jesus you’re very welcome here. \nWe’d love to welcome you to our relaxed Sunday gatherings at the Beacon Centre\, Beacon Lane in Beacon Heath.\nSee calendar for details – once a month we meet in community groups and once a month enjoy a big celebration at St James School. \n[/vc_column_text][split_line_heading animation_type=”line-reveal-by-space” font_style=”h2″ text_color=”#3d485b” line_reveal_by_space_text_effect=”default” content_alignment=”default” mobile_content_alignment=”inherit” link_target=”_self” text_content=”Be a part of the Isca church community” text_direction=”default”][/split_line_heading][/vc_column][vc_column column_padding=”no-extra-padding” column_padding_tablet=”inherit” column_padding_phone=”inherit” column_padding_position=”all” column_element_direction_desktop=”default” column_element_spacing=”default” desktop_text_alignment=”default” tablet_text_alignment=”default” phone_text_alignment=”default” background_color_opacity=”1″ background_hover_color_opacity=”1″ column_backdrop_filter=”none” column_shadow=”none” column_border_radius=”none” column_link_target=”_self” column_position=”default” gradient_direction=”left_to_right” overlay_strength=”0.3″ width=”1/2″ tablet_width_inherit=”default” animation_type=”default” bg_image_animation=”none” border_type=”simple” column_border_width=”none” column_border_style=”solid”][image_with_animation image_url=”1753″ image_size=”full” animation_type=”entrance” animation=”None” animation_movement_type=”transform_y” hover_animation=”none” alignment=”” border_radius=”none” box_shadow=”none” image_loading=”default” max_width=”100%” max_width_mobile=”default”][/vc_column][/vc_row]
URL:https://www.thebeaconcentre.org/whatson/isca-church-group/2026-01-25/
CATEGORIES:Church Meetings
ATTACH;FMTTYPE=image/png:https://www.thebeaconcentre.org/wp-content/uploads/2024/02/ISCA-Church-Logo-1.png
END:VEVENT
END:VCALENDAR