BEGIN:VCALENDAR
VERSION:2.0
PRODID:-//The Beacon - ECPv6.15.20//NONSGML v1.0//EN
CALSCALE:GREGORIAN
METHOD:PUBLISH
X-ORIGINAL-URL:https://www.thebeaconcentre.org
X-WR-CALDESC:Events for The Beacon
REFRESH-INTERVAL;VALUE=DURATION:PT1H
X-Robots-Tag:noindex
X-PUBLISHED-TTL:PT1H
BEGIN:VTIMEZONE
TZID:UTC
BEGIN:STANDARD
TZOFFSETFROM:+0000
TZOFFSETTO:+0000
TZNAME:UTC
DTSTART:20240101T000000
END:STANDARD
END:VTIMEZONE
BEGIN:VTIMEZONE
TZID:Europe/London
BEGIN:DAYLIGHT
TZOFFSETFROM:+0000
TZOFFSETTO:+0100
TZNAME:BST
DTSTART:20240331T010000
END:DAYLIGHT
BEGIN:STANDARD
TZOFFSETFROM:+0100
TZOFFSETTO:+0000
TZNAME:GMT
DTSTART:20241027T010000
END:STANDARD
BEGIN:DAYLIGHT
TZOFFSETFROM:+0000
TZOFFSETTO:+0100
TZNAME:BST
DTSTART:20250330T010000
END:DAYLIGHT
BEGIN:STANDARD
TZOFFSETFROM:+0100
TZOFFSETTO:+0000
TZNAME:GMT
DTSTART:20251026T010000
END:STANDARD
BEGIN:DAYLIGHT
TZOFFSETFROM:+0000
TZOFFSETTO:+0100
TZNAME:BST
DTSTART:20260329T010000
END:DAYLIGHT
BEGIN:STANDARD
TZOFFSETFROM:+0100
TZOFFSETTO:+0000
TZNAME:GMT
DTSTART:20261025T010000
END:STANDARD
END:VTIMEZONE
BEGIN:VEVENT
DTSTART;TZID=UTC:20251211T160000
DTEND;TZID=UTC:20251211T180000
DTSTAMP:20260421T104456
CREATED:20250922T112241Z
LAST-MODIFIED:20250922T112241Z
UID:10003789-1765468800-1765476000@www.thebeaconcentre.org
SUMMARY:Kumon Maths & English
DESCRIPTION:
URL:https://www.thebeaconcentre.org/whatson/kumon-maths-english/2025-12-11/
END:VEVENT
BEGIN:VEVENT
DTSTART;TZID=UTC:20251211T183000
DTEND;TZID=UTC:20251211T210000
DTSTAMP:20260421T104456
CREATED:20250922T111855Z
LAST-MODIFIED:20250922T111855Z
UID:10003266-1765477800-1765486800@www.thebeaconcentre.org
SUMMARY:Woodcraft
DESCRIPTION:
URL:https://www.thebeaconcentre.org/whatson/woodcraft/2025-12-11/
END:VEVENT
BEGIN:VEVENT
DTSTART;TZID=Europe/London:20251212T090000
DTEND;TZID=Europe/London:20251212T120000
DTSTAMP:20260421T104456
CREATED:20240124T150838Z
LAST-MODIFIED:20240229T125218Z
UID:10000104-1765530000-1765540800@www.thebeaconcentre.org
SUMMARY:Friday Cafe
DESCRIPTION:Our Friday Cafe is held in Hobnob Hall\, a light welcoming hall with two pool tables and plenty of sofas to relax on with a knitting table and a jigsaw/games table.   Exeter Foodbank\, plus free Tesco surplus food. All welcome at the Cafe\, 10am till 12noon!
URL:https://www.thebeaconcentre.org/whatson/friday-cafe/2025-12-12/
LOCATION:The Beacon Centre
CATEGORIES:Socialising
ATTACH;FMTTYPE=image/webp:https://www.thebeaconcentre.org/wp-content/uploads/2024/01/IMG_7523-copy.webp
END:VEVENT
BEGIN:VEVENT
DTSTART;TZID=UTC:20251212T110000
DTEND;TZID=UTC:20251212T123000
DTSTAMP:20260421T104456
CREATED:20250922T113915Z
LAST-MODIFIED:20250922T113915Z
UID:10005018-1765537200-1765542600@www.thebeaconcentre.org
SUMMARY:Mothers in Mind
DESCRIPTION:
URL:https://www.thebeaconcentre.org/whatson/mothers-in-mind/2025-12-12/
END:VEVENT
BEGIN:VEVENT
DTSTART;TZID=UTC:20251212T133000
DTEND;TZID=UTC:20251212T160000
DTSTAMP:20260421T104456
CREATED:20250922T114115Z
LAST-MODIFIED:20250922T114115Z
UID:10005279-1765546200-1765555200@www.thebeaconcentre.org
SUMMARY:Tribe
DESCRIPTION:
URL:https://www.thebeaconcentre.org/whatson/tribe/2025-12-12/
END:VEVENT
BEGIN:VEVENT
DTSTART;TZID=UTC:20251213T090000
DTEND;TZID=UTC:20251213T113000
DTSTAMP:20260421T104456
CREATED:20250922T112414Z
LAST-MODIFIED:20250922T112414Z
UID:10004051-1765616400-1765625400@www.thebeaconcentre.org
SUMMARY:Kumon Maths & English
DESCRIPTION:
URL:https://www.thebeaconcentre.org/whatson/kumon-maths-english-2/2025-12-13/
END:VEVENT
BEGIN:VEVENT
DTSTART;TZID=UTC:20251213T093000
DTEND;TZID=UTC:20251213T123000
DTSTAMP:20260421T104456
CREATED:20250922T112611Z
LAST-MODIFIED:20250922T112611Z
UID:10004312-1765618200-1765629000@www.thebeaconcentre.org
SUMMARY:Soundwaves
DESCRIPTION:
URL:https://www.thebeaconcentre.org/whatson/soundwaves/2025-12-13/
END:VEVENT
END:VCALENDAR