BEGIN:VCALENDAR
VERSION:2.0
PRODID:-//The Beacon - ECPv6.15.20//NONSGML v1.0//EN
CALSCALE:GREGORIAN
METHOD:PUBLISH
X-WR-CALNAME:The Beacon
X-ORIGINAL-URL:https://www.thebeaconcentre.org
X-WR-CALDESC:Events for The Beacon
REFRESH-INTERVAL;VALUE=DURATION:PT1H
X-Robots-Tag:noindex
X-PUBLISHED-TTL:PT1H
BEGIN:VTIMEZONE
TZID:UTC
BEGIN:STANDARD
TZOFFSETFROM:+0000
TZOFFSETTO:+0000
TZNAME:UTC
DTSTART:20260101T000000
END:STANDARD
END:VTIMEZONE
BEGIN:VEVENT
DTSTART;TZID=UTC:20270101T133000
DTEND;TZID=UTC:20270101T160000
DTSTAMP:20260422T000356
CREATED:20250922T114115Z
LAST-MODIFIED:20250922T114115Z
UID:10005334-1798810200-1798819200@www.thebeaconcentre.org
SUMMARY:Tribe
DESCRIPTION:
URL:https://www.thebeaconcentre.org/whatson/tribe/2027-01-01/
END:VEVENT
BEGIN:VEVENT
DTSTART;TZID=UTC:20270102T090000
DTEND;TZID=UTC:20270102T113000
DTSTAMP:20260422T000356
CREATED:20250922T112414Z
LAST-MODIFIED:20250922T112414Z
UID:10004106-1798880400-1798889400@www.thebeaconcentre.org
SUMMARY:Kumon Maths & English
DESCRIPTION:
URL:https://www.thebeaconcentre.org/whatson/kumon-maths-english-2/2027-01-02/
END:VEVENT
BEGIN:VEVENT
DTSTART;TZID=UTC:20270102T093000
DTEND;TZID=UTC:20270102T123000
DTSTAMP:20260422T000356
CREATED:20250922T112611Z
LAST-MODIFIED:20250922T112611Z
UID:10004367-1798882200-1798893000@www.thebeaconcentre.org
SUMMARY:Soundwaves
DESCRIPTION:
URL:https://www.thebeaconcentre.org/whatson/soundwaves/2027-01-02/
END:VEVENT
END:VCALENDAR