BEGIN:VCALENDAR
VERSION:2.0
PRODID:-//The Beacon - ECPv6.15.20//NONSGML v1.0//EN
CALSCALE:GREGORIAN
METHOD:PUBLISH
X-WR-CALNAME:The Beacon
X-ORIGINAL-URL:https://www.thebeaconcentre.org
X-WR-CALDESC:Events for The Beacon
REFRESH-INTERVAL;VALUE=DURATION:PT1H
X-Robots-Tag:noindex
X-PUBLISHED-TTL:PT1H
BEGIN:VTIMEZONE
TZID:UTC
BEGIN:STANDARD
TZOFFSETFROM:+0000
TZOFFSETTO:+0000
TZNAME:UTC
DTSTART:20250101T000000
END:STANDARD
END:VTIMEZONE
BEGIN:VEVENT
DTSTART;TZID=UTC:20261208T130000
DTEND;TZID=UTC:20261208T143000
DTSTAMP:20260422T000805
CREATED:20250922T111421Z
LAST-MODIFIED:20250922T111421Z
UID:10002796-1796734800-1796740200@www.thebeaconcentre.org
SUMMARY:Home Start Family Wellbeing group
DESCRIPTION:
URL:https://www.thebeaconcentre.org/whatson/home-start-family-wellbeing-group/2026-12-08/
END:VEVENT
BEGIN:VEVENT
DTSTART;TZID=UTC:20261208T183000
DTEND;TZID=UTC:20261208T183000
DTSTAMP:20260422T000805
CREATED:20250922T110459Z
LAST-MODIFIED:20250922T110459Z
UID:10002537-1796754600-1796754600@www.thebeaconcentre.org
SUMMARY:Irish Dancing
DESCRIPTION:
URL:https://www.thebeaconcentre.org/whatson/irish-dancing/2026-12-08/
END:VEVENT
BEGIN:VEVENT
DTSTART;TZID=UTC:20261209T093000
DTEND;TZID=UTC:20261209T123000
DTSTAMP:20260422T000805
CREATED:20250922T111638Z
LAST-MODIFIED:20250922T111638Z
UID:10003057-1796808600-1796819400@www.thebeaconcentre.org
SUMMARY:Headway
DESCRIPTION:
URL:https://www.thebeaconcentre.org/whatson/headway/2026-12-09/
END:VEVENT
END:VCALENDAR