BEGIN:VCALENDAR
VERSION:2.0
PRODID:-//The Beacon - ECPv6.15.20//NONSGML v1.0//EN
CALSCALE:GREGORIAN
METHOD:PUBLISH
X-WR-CALNAME:The Beacon
X-ORIGINAL-URL:https://www.thebeaconcentre.org
X-WR-CALDESC:Events for The Beacon
REFRESH-INTERVAL;VALUE=DURATION:PT1H
X-Robots-Tag:noindex
X-PUBLISHED-TTL:PT1H
BEGIN:VTIMEZONE
TZID:UTC
BEGIN:STANDARD
TZOFFSETFROM:+0000
TZOFFSETTO:+0000
TZNAME:UTC
DTSTART:20250101T000000
END:STANDARD
END:VTIMEZONE
BEGIN:VEVENT
DTSTART;TZID=UTC:20261120T133000
DTEND;TZID=UTC:20261120T160000
DTSTAMP:20260422T001044
CREATED:20250922T114115Z
LAST-MODIFIED:20250922T114115Z
UID:10005328-1795181400-1795190400@www.thebeaconcentre.org
SUMMARY:Tribe
DESCRIPTION:
URL:https://www.thebeaconcentre.org/whatson/tribe/2026-11-20/
END:VEVENT
BEGIN:VEVENT
DTSTART;TZID=UTC:20261121T090000
DTEND;TZID=UTC:20261121T113000
DTSTAMP:20260422T001044
CREATED:20250922T112414Z
LAST-MODIFIED:20250922T112414Z
UID:10004100-1795251600-1795260600@www.thebeaconcentre.org
SUMMARY:Kumon Maths & English
DESCRIPTION:
URL:https://www.thebeaconcentre.org/whatson/kumon-maths-english-2/2026-11-21/
END:VEVENT
BEGIN:VEVENT
DTSTART;TZID=UTC:20261121T093000
DTEND;TZID=UTC:20261121T123000
DTSTAMP:20260422T001044
CREATED:20250922T112611Z
LAST-MODIFIED:20250922T112611Z
UID:10004361-1795253400-1795264200@www.thebeaconcentre.org
SUMMARY:Soundwaves
DESCRIPTION:
URL:https://www.thebeaconcentre.org/whatson/soundwaves/2026-11-21/
END:VEVENT
END:VCALENDAR