BEGIN:VCALENDAR
VERSION:2.0
PRODID:-//The Beacon - ECPv6.15.20//NONSGML v1.0//EN
CALSCALE:GREGORIAN
METHOD:PUBLISH
X-WR-CALNAME:The Beacon
X-ORIGINAL-URL:https://www.thebeaconcentre.org
X-WR-CALDESC:Events for The Beacon
REFRESH-INTERVAL;VALUE=DURATION:PT1H
X-Robots-Tag:noindex
X-PUBLISHED-TTL:PT1H
BEGIN:VTIMEZONE
TZID:UTC
BEGIN:STANDARD
TZOFFSETFROM:+0000
TZOFFSETTO:+0000
TZNAME:UTC
DTSTART:20250101T000000
END:STANDARD
END:VTIMEZONE
BEGIN:VEVENT
DTSTART;TZID=UTC:20260925T133000
DTEND;TZID=UTC:20260925T160000
DTSTAMP:20260422T004005
CREATED:20250922T114115Z
LAST-MODIFIED:20250922T114115Z
UID:10005320-1790343000-1790352000@www.thebeaconcentre.org
SUMMARY:Tribe
DESCRIPTION:
URL:https://www.thebeaconcentre.org/whatson/tribe/2026-09-25/
END:VEVENT
BEGIN:VEVENT
DTSTART;TZID=UTC:20260926T090000
DTEND;TZID=UTC:20260926T113000
DTSTAMP:20260422T004005
CREATED:20250922T112414Z
LAST-MODIFIED:20250922T112414Z
UID:10004092-1790413200-1790422200@www.thebeaconcentre.org
SUMMARY:Kumon Maths & English
DESCRIPTION:
URL:https://www.thebeaconcentre.org/whatson/kumon-maths-english-2/2026-09-26/
END:VEVENT
BEGIN:VEVENT
DTSTART;TZID=UTC:20260926T093000
DTEND;TZID=UTC:20260926T123000
DTSTAMP:20260422T004005
CREATED:20250922T112611Z
LAST-MODIFIED:20250922T112611Z
UID:10004353-1790415000-1790425800@www.thebeaconcentre.org
SUMMARY:Soundwaves
DESCRIPTION:
URL:https://www.thebeaconcentre.org/whatson/soundwaves/2026-09-26/
END:VEVENT
END:VCALENDAR