BEGIN:VCALENDAR
VERSION:2.0
PRODID:-//The Beacon - ECPv6.15.20//NONSGML v1.0//EN
CALSCALE:GREGORIAN
METHOD:PUBLISH
X-WR-CALNAME:The Beacon
X-ORIGINAL-URL:https://www.thebeaconcentre.org
X-WR-CALDESC:Events for The Beacon
REFRESH-INTERVAL;VALUE=DURATION:PT1H
X-Robots-Tag:noindex
X-PUBLISHED-TTL:PT1H
BEGIN:VTIMEZONE
TZID:Europe/London
BEGIN:DAYLIGHT
TZOFFSETFROM:+0000
TZOFFSETTO:+0100
TZNAME:BST
DTSTART:20250330T010000
END:DAYLIGHT
BEGIN:STANDARD
TZOFFSETFROM:+0100
TZOFFSETTO:+0000
TZNAME:GMT
DTSTART:20251026T010000
END:STANDARD
BEGIN:DAYLIGHT
TZOFFSETFROM:+0000
TZOFFSETTO:+0100
TZNAME:BST
DTSTART:20260329T010000
END:DAYLIGHT
BEGIN:STANDARD
TZOFFSETFROM:+0100
TZOFFSETTO:+0000
TZNAME:GMT
DTSTART:20261025T010000
END:STANDARD
BEGIN:DAYLIGHT
TZOFFSETFROM:+0000
TZOFFSETTO:+0100
TZNAME:BST
DTSTART:20270328T010000
END:DAYLIGHT
BEGIN:STANDARD
TZOFFSETFROM:+0100
TZOFFSETTO:+0000
TZNAME:GMT
DTSTART:20271031T010000
END:STANDARD
END:VTIMEZONE
BEGIN:VTIMEZONE
TZID:UTC
BEGIN:STANDARD
TZOFFSETFROM:+0000
TZOFFSETTO:+0000
TZNAME:UTC
DTSTART:20250101T000000
END:STANDARD
END:VTIMEZONE
BEGIN:VEVENT
DTSTART;TZID=Europe/London:20260313T090000
DTEND;TZID=Europe/London:20260313T120000
DTSTAMP:20260419T175921
CREATED:20240124T150838Z
LAST-MODIFIED:20240229T125218Z
UID:10000117-1773392400-1773403200@www.thebeaconcentre.org
SUMMARY:Friday Cafe
DESCRIPTION:Our Friday Cafe is held in Hobnob Hall\, a light welcoming hall with two pool tables and plenty of sofas to relax on with a knitting table and a jigsaw/games table.   Exeter Foodbank\, plus free Tesco surplus food. All welcome at the Cafe\, 10am till 12noon!
URL:https://www.thebeaconcentre.org/whatson/friday-cafe/2026-03-13/
LOCATION:The Beacon Centre
CATEGORIES:Socialising
ATTACH;FMTTYPE=image/webp:https://www.thebeaconcentre.org/wp-content/uploads/2024/01/IMG_7523-copy.webp
END:VEVENT
BEGIN:VEVENT
DTSTART;TZID=UTC:20260313T110000
DTEND;TZID=UTC:20260313T123000
DTSTAMP:20260419T175921
CREATED:20250922T113915Z
LAST-MODIFIED:20250922T113915Z
UID:10005031-1773399600-1773405000@www.thebeaconcentre.org
SUMMARY:Mothers in Mind
DESCRIPTION:
URL:https://www.thebeaconcentre.org/whatson/mothers-in-mind/2026-03-13/
END:VEVENT
BEGIN:VEVENT
DTSTART;TZID=UTC:20260313T133000
DTEND;TZID=UTC:20260313T160000
DTSTAMP:20260419T175921
CREATED:20250922T114115Z
LAST-MODIFIED:20250922T114115Z
UID:10005292-1773408600-1773417600@www.thebeaconcentre.org
SUMMARY:Tribe
DESCRIPTION:
URL:https://www.thebeaconcentre.org/whatson/tribe/2026-03-13/
END:VEVENT
BEGIN:VEVENT
DTSTART;TZID=UTC:20260314T090000
DTEND;TZID=UTC:20260314T113000
DTSTAMP:20260419T175921
CREATED:20250922T112414Z
LAST-MODIFIED:20250922T112414Z
UID:10004064-1773478800-1773487800@www.thebeaconcentre.org
SUMMARY:Kumon Maths & English
DESCRIPTION:
URL:https://www.thebeaconcentre.org/whatson/kumon-maths-english-2/2026-03-14/
END:VEVENT
BEGIN:VEVENT
DTSTART;TZID=UTC:20260314T093000
DTEND;TZID=UTC:20260314T123000
DTSTAMP:20260419T175921
CREATED:20250922T112611Z
LAST-MODIFIED:20250922T112611Z
UID:10004325-1773480600-1773491400@www.thebeaconcentre.org
SUMMARY:Soundwaves
DESCRIPTION:
URL:https://www.thebeaconcentre.org/whatson/soundwaves/2026-03-14/
END:VEVENT
END:VCALENDAR