BEGIN:VCALENDAR
VERSION:2.0
PRODID:-//The Beacon - ECPv6.15.20//NONSGML v1.0//EN
CALSCALE:GREGORIAN
METHOD:PUBLISH
X-WR-CALNAME:The Beacon
X-ORIGINAL-URL:https://www.thebeaconcentre.org
X-WR-CALDESC:Events for The Beacon
REFRESH-INTERVAL;VALUE=DURATION:PT1H
X-Robots-Tag:noindex
X-PUBLISHED-TTL:PT1H
BEGIN:VTIMEZONE
TZID:UTC
BEGIN:STANDARD
TZOFFSETFROM:+0000
TZOFFSETTO:+0000
TZNAME:UTC
DTSTART:20250101T000000
END:STANDARD
END:VTIMEZONE
BEGIN:VTIMEZONE
TZID:Europe/London
BEGIN:DAYLIGHT
TZOFFSETFROM:+0000
TZOFFSETTO:+0100
TZNAME:BST
DTSTART:20250330T010000
END:DAYLIGHT
BEGIN:STANDARD
TZOFFSETFROM:+0100
TZOFFSETTO:+0000
TZNAME:GMT
DTSTART:20251026T010000
END:STANDARD
BEGIN:DAYLIGHT
TZOFFSETFROM:+0000
TZOFFSETTO:+0100
TZNAME:BST
DTSTART:20260329T010000
END:DAYLIGHT
BEGIN:STANDARD
TZOFFSETFROM:+0100
TZOFFSETTO:+0000
TZNAME:GMT
DTSTART:20261025T010000
END:STANDARD
BEGIN:DAYLIGHT
TZOFFSETFROM:+0000
TZOFFSETTO:+0100
TZNAME:BST
DTSTART:20270328T010000
END:DAYLIGHT
BEGIN:STANDARD
TZOFFSETFROM:+0100
TZOFFSETTO:+0000
TZNAME:GMT
DTSTART:20271031T010000
END:STANDARD
END:VTIMEZONE
BEGIN:VEVENT
DTSTART;TZID=UTC:20260210T183000
DTEND;TZID=UTC:20260210T183000
DTSTAMP:20260419T151235
CREATED:20250922T110459Z
LAST-MODIFIED:20250922T110459Z
UID:10002494-1770748200-1770748200@www.thebeaconcentre.org
SUMMARY:Irish Dancing
DESCRIPTION:
URL:https://www.thebeaconcentre.org/whatson/irish-dancing/2026-02-10/
END:VEVENT
BEGIN:VEVENT
DTSTART;TZID=UTC:20260211T093000
DTEND;TZID=UTC:20260211T123000
DTSTAMP:20260419T151235
CREATED:20250922T111638Z
LAST-MODIFIED:20250922T111638Z
UID:10003014-1770802200-1770813000@www.thebeaconcentre.org
SUMMARY:Headway
DESCRIPTION:
URL:https://www.thebeaconcentre.org/whatson/headway/2026-02-11/
END:VEVENT
BEGIN:VEVENT
DTSTART;TZID=Europe/London:20260212T093000
DTEND;TZID=Europe/London:20260212T111500
DTSTAMP:20260419T151235
CREATED:20240124T143512Z
LAST-MODIFIED:20250922T113612Z
UID:10004678-1770888600-1770894900@www.thebeaconcentre.org
SUMMARY:Tadpoles Toddler play group
DESCRIPTION:Tadpoles is a baby and toddler group for 0-5s at The Beacon Community Centre\, Beacon Lane\, every Thursday during term time from 9:30am – 11:15am.  Costs are £2 for 1 adult + 2 children\, and 50p per child extra. \nWe have a lovely outdoor and covered play area\, we usually do a craft activity\, have a snack time\, and enjoy singing each week\, as well as a variety of toys and activities to entertain. We love to welcome new people and our aim is to support and encourage each other – no cliques or perfect parents here!
URL:https://www.thebeaconcentre.org/whatson/tadpoles-toddlers-play-group/2026-02-12/
LOCATION:The Beacon Centre
CATEGORIES:Parent & Child
ATTACH;FMTTYPE=image/png:https://www.thebeaconcentre.org/wp-content/uploads/2020/01/Tadpoles_Toddler_Group.png
END:VEVENT
BEGIN:VEVENT
DTSTART;TZID=UTC:20260212T160000
DTEND;TZID=UTC:20260212T180000
DTSTAMP:20260419T151235
CREATED:20250922T112241Z
LAST-MODIFIED:20250922T112241Z
UID:10003798-1770912000-1770919200@www.thebeaconcentre.org
SUMMARY:Kumon Maths & English
DESCRIPTION:
URL:https://www.thebeaconcentre.org/whatson/kumon-maths-english/2026-02-12/
END:VEVENT
BEGIN:VEVENT
DTSTART;TZID=UTC:20260212T183000
DTEND;TZID=UTC:20260212T210000
DTSTAMP:20260419T151235
CREATED:20250922T111855Z
LAST-MODIFIED:20250922T111855Z
UID:10003275-1770921000-1770930000@www.thebeaconcentre.org
SUMMARY:Woodcraft
DESCRIPTION:
URL:https://www.thebeaconcentre.org/whatson/woodcraft/2026-02-12/
END:VEVENT
END:VCALENDAR