BEGIN:VCALENDAR
VERSION:2.0
PRODID:-//The Beacon - ECPv6.15.20//NONSGML v1.0//EN
CALSCALE:GREGORIAN
METHOD:PUBLISH
X-WR-CALNAME:The Beacon
X-ORIGINAL-URL:https://www.thebeaconcentre.org
X-WR-CALDESC:Events for The Beacon
REFRESH-INTERVAL;VALUE=DURATION:PT1H
X-Robots-Tag:noindex
X-PUBLISHED-TTL:PT1H
BEGIN:VTIMEZONE
TZID:UTC
BEGIN:STANDARD
TZOFFSETFROM:+0000
TZOFFSETTO:+0000
TZNAME:UTC
DTSTART:20240101T000000
END:STANDARD
END:VTIMEZONE
BEGIN:VTIMEZONE
TZID:Europe/London
BEGIN:DAYLIGHT
TZOFFSETFROM:+0000
TZOFFSETTO:+0100
TZNAME:BST
DTSTART:20240331T010000
END:DAYLIGHT
BEGIN:STANDARD
TZOFFSETFROM:+0100
TZOFFSETTO:+0000
TZNAME:GMT
DTSTART:20241027T010000
END:STANDARD
BEGIN:DAYLIGHT
TZOFFSETFROM:+0000
TZOFFSETTO:+0100
TZNAME:BST
DTSTART:20250330T010000
END:DAYLIGHT
BEGIN:STANDARD
TZOFFSETFROM:+0100
TZOFFSETTO:+0000
TZNAME:GMT
DTSTART:20251026T010000
END:STANDARD
BEGIN:DAYLIGHT
TZOFFSETFROM:+0000
TZOFFSETTO:+0100
TZNAME:BST
DTSTART:20260329T010000
END:DAYLIGHT
BEGIN:STANDARD
TZOFFSETFROM:+0100
TZOFFSETTO:+0000
TZNAME:GMT
DTSTART:20261025T010000
END:STANDARD
END:VTIMEZONE
BEGIN:VEVENT
DTSTART;TZID=UTC:20251104T183000
DTEND;TZID=UTC:20251104T193000
DTSTAMP:20260420T065047
CREATED:20240924T123210Z
LAST-MODIFIED:20240924T123659Z
UID:10001981-1762281000-1762284600@www.thebeaconcentre.org
SUMMARY:Body Workout with Kamila
DESCRIPTION:Body Workout with Kamila  \n These classes are for you.  \nTuesdays  and Thursday 6.30 pm – 7.30pm at the Beacon Centre \nMix of aerobics\, pilates\, yoga\, body pump and cardio suitable for very beginners to improved and advanced. \nJoin us\, have fun and enjoy being part of our community\, full of support and motivation. \nEveryone welcome!
URL:https://www.thebeaconcentre.org/whatson/body-workout-with-kamila-3/2025-11-04/
LOCATION:The Beacon Centre
CATEGORIES:Health & Wellness,Socialising
ATTACH;FMTTYPE=image/jpeg:https://www.thebeaconcentre.org/wp-content/uploads/2024/03/dance-class-at-the-gym-2023-11-27-05-13-31-utc-Large.jpeg
END:VEVENT
BEGIN:VEVENT
DTSTART;TZID=UTC:20251105T093000
DTEND;TZID=UTC:20251105T123000
DTSTAMP:20260420T065047
CREATED:20250922T111638Z
LAST-MODIFIED:20250922T111638Z
UID:10003000-1762335000-1762345800@www.thebeaconcentre.org
SUMMARY:Headway
DESCRIPTION:
URL:https://www.thebeaconcentre.org/whatson/headway/2025-11-05/
END:VEVENT
BEGIN:VEVENT
DTSTART;TZID=UTC:20251105T190000
DTEND;TZID=UTC:20251105T200000
DTSTAMP:20260420T065047
CREATED:20240924T100016Z
LAST-MODIFIED:20241216T093538Z
UID:10002378-1762369200-1762372800@www.thebeaconcentre.org
SUMMARY:Taoist Tai Chi
DESCRIPTION:The Taoist Tai Chi Society of Great Britain holds courses on Wednesdays at 7.00 pm at The Beacon Centre\, Beacon Lane\, Exeter\, EX4 8LZ.\n\nAll welcome!   Please go on our website to register for a place: \nhttps://www.taoisttaichi.org/locations/the-beacon-centre-exeter/ \ntaoisttaichi.org or call 01884 798231. \nReg. charity no: England & Wales 1053425; Scotland SC039513
URL:https://www.thebeaconcentre.org/whatson/taoist-tai-chi/2025-11-05/
LOCATION:The Beacon Centre
CATEGORIES:Health & Wellness
ATTACH;FMTTYPE=image/jpeg:https://www.thebeaconcentre.org/wp-content/uploads/2024/09/Screenshot_10-12-2024_1576_.jpeg
END:VEVENT
BEGIN:VEVENT
DTSTART;TZID=Europe/London:20251106T093000
DTEND;TZID=Europe/London:20251106T111500
DTSTAMP:20260420T065047
CREATED:20240124T143512Z
LAST-MODIFIED:20250922T113612Z
UID:10004664-1762421400-1762427700@www.thebeaconcentre.org
SUMMARY:Tadpoles Toddler play group
DESCRIPTION:Tadpoles is a baby and toddler group for 0-5s at The Beacon Community Centre\, Beacon Lane\, every Thursday during term time from 9:30am – 11:15am.  Costs are £2 for 1 adult + 2 children\, and 50p per child extra. \nWe have a lovely outdoor and covered play area\, we usually do a craft activity\, have a snack time\, and enjoy singing each week\, as well as a variety of toys and activities to entertain. We love to welcome new people and our aim is to support and encourage each other – no cliques or perfect parents here!
URL:https://www.thebeaconcentre.org/whatson/tadpoles-toddlers-play-group/2025-11-06/
LOCATION:The Beacon Centre
CATEGORIES:Parent & Child
ATTACH;FMTTYPE=image/png:https://www.thebeaconcentre.org/wp-content/uploads/2020/01/Tadpoles_Toddler_Group.png
END:VEVENT
BEGIN:VEVENT
DTSTART;TZID=UTC:20251106T160000
DTEND;TZID=UTC:20251106T180000
DTSTAMP:20260420T065047
CREATED:20250922T112241Z
LAST-MODIFIED:20250922T112241Z
UID:10003784-1762444800-1762452000@www.thebeaconcentre.org
SUMMARY:Kumon Maths & English
DESCRIPTION:
URL:https://www.thebeaconcentre.org/whatson/kumon-maths-english/2025-11-06/
END:VEVENT
BEGIN:VEVENT
DTSTART;TZID=UTC:20251106T183000
DTEND;TZID=UTC:20251106T210000
DTSTAMP:20260420T065047
CREATED:20250922T111855Z
LAST-MODIFIED:20250922T111855Z
UID:10003261-1762453800-1762462800@www.thebeaconcentre.org
SUMMARY:Woodcraft
DESCRIPTION:
URL:https://www.thebeaconcentre.org/whatson/woodcraft/2025-11-06/
END:VEVENT
BEGIN:VEVENT
DTSTART;TZID=UTC:20251111T150000
DTEND;TZID=UTC:20251111T163000
DTSTAMP:20260420T065047
CREATED:20240924T122511Z
LAST-MODIFIED:20250922T113730Z
UID:10004974-1762873200-1762878600@www.thebeaconcentre.org
SUMMARY:The Hub Youth group
DESCRIPTION:Join us for music\, games\, pool tables\, table tennis\, dodgeball\, Xbox & PlayStation\, our tuck shop and homemade cakes. \n\n\n\n\nFor years 7-11\, term time Tuesdays from 3pm-4.30pm. \nContact Sim by email: office@iscachurch.org\,uk for more details
URL:https://www.thebeaconcentre.org/whatson/the-hub-youth-group/2025-11-11/
LOCATION:The Beacon Centre
CATEGORIES:Socialising,Community,Youth
ATTACH;FMTTYPE=image/webp:https://www.thebeaconcentre.org/wp-content/uploads/2021/12/The_Hub.webp
END:VEVENT
END:VCALENDAR