BEGIN:VCALENDAR
VERSION:2.0
PRODID:-//The Beacon - ECPv6.15.20//NONSGML v1.0//EN
CALSCALE:GREGORIAN
METHOD:PUBLISH
X-WR-CALNAME:The Beacon
X-ORIGINAL-URL:https://www.thebeaconcentre.org
X-WR-CALDESC:Events for The Beacon
REFRESH-INTERVAL;VALUE=DURATION:PT1H
X-Robots-Tag:noindex
X-PUBLISHED-TTL:PT1H
BEGIN:VTIMEZONE
TZID:UTC
BEGIN:STANDARD
TZOFFSETFROM:+0000
TZOFFSETTO:+0000
TZNAME:UTC
DTSTART:20230101T000000
END:STANDARD
END:VTIMEZONE
BEGIN:VTIMEZONE
TZID:Europe/London
BEGIN:DAYLIGHT
TZOFFSETFROM:+0000
TZOFFSETTO:+0100
TZNAME:BST
DTSTART:20230326T010000
END:DAYLIGHT
BEGIN:STANDARD
TZOFFSETFROM:+0100
TZOFFSETTO:+0000
TZNAME:GMT
DTSTART:20231029T010000
END:STANDARD
BEGIN:DAYLIGHT
TZOFFSETFROM:+0000
TZOFFSETTO:+0100
TZNAME:BST
DTSTART:20240331T010000
END:DAYLIGHT
BEGIN:STANDARD
TZOFFSETFROM:+0100
TZOFFSETTO:+0000
TZNAME:GMT
DTSTART:20241027T010000
END:STANDARD
BEGIN:DAYLIGHT
TZOFFSETFROM:+0000
TZOFFSETTO:+0100
TZNAME:BST
DTSTART:20250330T010000
END:DAYLIGHT
BEGIN:STANDARD
TZOFFSETFROM:+0100
TZOFFSETTO:+0000
TZNAME:GMT
DTSTART:20251026T010000
END:STANDARD
BEGIN:DAYLIGHT
TZOFFSETFROM:+0000
TZOFFSETTO:+0100
TZNAME:BST
DTSTART:20260329T010000
END:DAYLIGHT
BEGIN:STANDARD
TZOFFSETFROM:+0100
TZOFFSETTO:+0000
TZNAME:GMT
DTSTART:20261025T010000
END:STANDARD
BEGIN:DAYLIGHT
TZOFFSETFROM:+0000
TZOFFSETTO:+0100
TZNAME:BST
DTSTART:20270328T010000
END:DAYLIGHT
BEGIN:STANDARD
TZOFFSETFROM:+0100
TZOFFSETTO:+0000
TZNAME:GMT
DTSTART:20271031T010000
END:STANDARD
END:VTIMEZONE
BEGIN:VEVENT
DTSTART;TZID=UTC:20260417T110000
DTEND;TZID=UTC:20260417T123000
DTSTAMP:20260423T083251
CREATED:20250922T113915Z
LAST-MODIFIED:20250922T113915Z
UID:10005036-1776423600-1776429000@www.thebeaconcentre.org
SUMMARY:Mothers in Mind
DESCRIPTION:
URL:https://www.thebeaconcentre.org/whatson/mothers-in-mind/2026-04-17/
END:VEVENT
BEGIN:VEVENT
DTSTART;TZID=Europe/London:20260417T090000
DTEND;TZID=Europe/London:20260417T120000
DTSTAMP:20260423T083251
CREATED:20240124T150838Z
LAST-MODIFIED:20240229T125218Z
UID:10000122-1776416400-1776427200@www.thebeaconcentre.org
SUMMARY:Friday Cafe
DESCRIPTION:Our Friday Cafe is held in Hobnob Hall\, a light welcoming hall with two pool tables and plenty of sofas to relax on with a knitting table and a jigsaw/games table.   Exeter Foodbank\, plus free Tesco surplus food. All welcome at the Cafe\, 10am till 12noon!
URL:https://www.thebeaconcentre.org/whatson/friday-cafe/2026-04-17/
LOCATION:The Beacon Centre
CATEGORIES:Socialising
ATTACH;FMTTYPE=image/webp:https://www.thebeaconcentre.org/wp-content/uploads/2024/01/IMG_7523-copy.webp
END:VEVENT
BEGIN:VEVENT
DTSTART;TZID=UTC:20260416T183000
DTEND;TZID=UTC:20260416T210000
DTSTAMP:20260423T083251
CREATED:20250922T111855Z
LAST-MODIFIED:20250922T111855Z
UID:10003284-1776364200-1776373200@www.thebeaconcentre.org
SUMMARY:Woodcraft
DESCRIPTION:
URL:https://www.thebeaconcentre.org/whatson/woodcraft/2026-04-16/
END:VEVENT
BEGIN:VEVENT
DTSTART;TZID=UTC:20260416T160000
DTEND;TZID=UTC:20260416T180000
DTSTAMP:20260423T083251
CREATED:20250922T112241Z
LAST-MODIFIED:20250922T112241Z
UID:10003807-1776355200-1776362400@www.thebeaconcentre.org
SUMMARY:Kumon Maths & English
DESCRIPTION:
URL:https://www.thebeaconcentre.org/whatson/kumon-maths-english/2026-04-16/
END:VEVENT
BEGIN:VEVENT
DTSTART;TZID=Europe/London:20260416T093000
DTEND;TZID=Europe/London:20260416T111500
DTSTAMP:20260423T083251
CREATED:20240124T143512Z
LAST-MODIFIED:20250922T113612Z
UID:10004687-1776331800-1776338100@www.thebeaconcentre.org
SUMMARY:Tadpoles Toddler play group
DESCRIPTION:Tadpoles is a baby and toddler group for 0-5s at The Beacon Community Centre\, Beacon Lane\, every Thursday during term time from 9:30am – 11:15am.  Costs are £2 for 1 adult + 2 children\, and 50p per child extra. \nWe have a lovely outdoor and covered play area\, we usually do a craft activity\, have a snack time\, and enjoy singing each week\, as well as a variety of toys and activities to entertain. We love to welcome new people and our aim is to support and encourage each other – no cliques or perfect parents here!
URL:https://www.thebeaconcentre.org/whatson/tadpoles-toddlers-play-group/2026-04-16/
LOCATION:The Beacon Centre
CATEGORIES:Parent & Child
ATTACH;FMTTYPE=image/png:https://www.thebeaconcentre.org/wp-content/uploads/2020/01/Tadpoles_Toddler_Group.png
END:VEVENT
BEGIN:VEVENT
DTSTART;TZID=UTC:20260129T183000
DTEND;TZID=UTC:20260129T193000
DTSTAMP:20260423T083251
CREATED:20240924T123210Z
LAST-MODIFIED:20240924T123659Z
UID:10002006-1769711400-1769715000@www.thebeaconcentre.org
SUMMARY:Body Workout with Kamila
DESCRIPTION:Body Workout with Kamila  \n These classes are for you.  \nTuesdays  and Thursday 6.30 pm – 7.30pm at the Beacon Centre \nMix of aerobics\, pilates\, yoga\, body pump and cardio suitable for very beginners to improved and advanced. \nJoin us\, have fun and enjoy being part of our community\, full of support and motivation. \nEveryone welcome!
URL:https://www.thebeaconcentre.org/whatson/body-workout-with-kamila-3/2026-01-29/
LOCATION:The Beacon Centre
CATEGORIES:Health & Wellness,Socialising
ATTACH;FMTTYPE=image/jpeg:https://www.thebeaconcentre.org/wp-content/uploads/2024/03/dance-class-at-the-gym-2023-11-27-05-13-31-utc-Large.jpeg
END:VEVENT
BEGIN:VEVENT
DTSTART;TZID=UTC:20251217T190000
DTEND;TZID=UTC:20251217T200000
DTSTAMP:20260423T083251
CREATED:20240924T100016Z
LAST-MODIFIED:20241216T093538Z
UID:10002384-1765998000-1766001600@www.thebeaconcentre.org
SUMMARY:Taoist Tai Chi
DESCRIPTION:The Taoist Tai Chi Society of Great Britain holds courses on Wednesdays at 7.00 pm at The Beacon Centre\, Beacon Lane\, Exeter\, EX4 8LZ.\n\nAll welcome!   Please go on our website to register for a place: \nhttps://www.taoisttaichi.org/locations/the-beacon-centre-exeter/ \ntaoisttaichi.org or call 01884 798231. \nReg. charity no: England & Wales 1053425; Scotland SC039513
URL:https://www.thebeaconcentre.org/whatson/taoist-tai-chi/2025-12-17/
LOCATION:The Beacon Centre
CATEGORIES:Health & Wellness
ATTACH;FMTTYPE=image/jpeg:https://www.thebeaconcentre.org/wp-content/uploads/2024/09/Screenshot_10-12-2024_1576_.jpeg
END:VEVENT
BEGIN:VEVENT
DTSTART;TZID=Europe/London:20240321T193000
DTEND;TZID=Europe/London:20240321T203000
DTSTAMP:20260423T083251
CREATED:20240229T131919Z
LAST-MODIFIED:20240229T132111Z
UID:10000275-1711049400-1711053000@www.thebeaconcentre.org
SUMMARY:Yoga With Anouska
DESCRIPTION:[vc_row type=”in_container” full_screen_row_position=”middle” column_margin=”default” column_direction=”default” column_direction_tablet=”default” column_direction_phone=”default” scene_position=”center” text_color=”dark” text_align=”left” row_border_radius=”none” row_border_radius_applies=”bg” overflow=”visible” overlay_strength=”0.3″ gradient_direction=”left_to_right” shape_divider_position=”bottom” bg_image_animation=”none”][vc_column column_padding=”no-extra-padding” column_padding_tablet=”inherit” column_padding_phone=”inherit” column_padding_position=”all” column_element_direction_desktop=”default” column_element_spacing=”default” desktop_text_alignment=”default” tablet_text_alignment=”default” phone_text_alignment=”default” background_color_opacity=”1″ background_hover_color_opacity=”1″ column_backdrop_filter=”none” column_shadow=”none” column_border_radius=”none” column_link_target=”_self” column_position=”default” gradient_direction=”left_to_right” overlay_strength=”0.3″ width=”2/3″ tablet_width_inherit=”default” animation_type=”default” bg_image_animation=”none” border_type=”simple” column_border_width=”none” column_border_style=”solid”][vc_column_text text_direction=”default”]Lets have fun maintaining a range of motion in our mind and body. \nGreat fun for eveyone. \nPlease bring your own Yoga mat. \nFor more information please goto www.circlingjoy.com/yoga[/vc_column_text][divider line_type=”No Line” custom_height=”45″][nectar_btn size=”large” button_style=”regular” button_color_2=”Extra-Color-2″ icon_family=”none” text=”Book by email” url=”mailto:circlingjoy@gmail.com”][/vc_column][vc_column column_padding=”no-extra-padding” column_padding_tablet=”inherit” column_padding_phone=”inherit” column_padding_position=”all” column_element_direction_desktop=”default” column_element_spacing=”default” desktop_text_alignment=”default” tablet_text_alignment=”default” phone_text_alignment=”default” background_color_opacity=”1″ background_hover_color_opacity=”1″ column_backdrop_filter=”none” column_shadow=”none” column_border_radius=”none” column_link_target=”_self” column_position=”default” gradient_direction=”left_to_right” overlay_strength=”0.3″ width=”1/3″ tablet_width_inherit=”default” animation_type=”default” bg_image_animation=”none” border_type=”simple” column_border_width=”none” column_border_style=”solid”][image_with_animation image_url=”1736″ image_size=”full” animation_type=”entrance” animation=”None” animation_movement_type=”transform_y” hover_animation=”none” alignment=”” border_radius=”none” box_shadow=”none” image_loading=”default” max_width=”100%” max_width_mobile=”default”][/vc_column][/vc_row]
URL:https://www.thebeaconcentre.org/whatson/yoga-with-anouska/2024-03-21/
CATEGORIES:Health & Wellness
ATTACH;FMTTYPE=image/webp:https://www.thebeaconcentre.org/wp-content/uploads/2024/02/yoga-group.webp
END:VEVENT
BEGIN:VEVENT
DTSTART;TZID=UTC:20240130T183000
DTEND;TZID=UTC:20240130T193000
DTSTAMP:20260423T083251
CREATED:20240124T152150Z
LAST-MODIFIED:20240124T152150Z
UID:10000005-1706639400-1706643000@www.thebeaconcentre.org
SUMMARY:Body workout with Kamila
DESCRIPTION:
URL:https://www.thebeaconcentre.org/whatson/body-workout-with-kamila-2/
LOCATION:The Beacon Centre
CATEGORIES:Health & Wellness
ATTACH;FMTTYPE=image/webp:https://www.thebeaconcentre.org/wp-content/uploads/2024/01/groupfitness.webp
END:VEVENT
BEGIN:VEVENT
DTSTART;TZID=UTC:20240126T090000
DTEND;TZID=UTC:20240126T120000
DTSTAMP:20260423T083251
CREATED:20240124T151948Z
LAST-MODIFIED:20240124T151949Z
UID:10000004-1706259600-1706270400@www.thebeaconcentre.org
SUMMARY:Craft & Chat
DESCRIPTION:Come along on a Monday morning and join a friendly group who love crafting and chatting! \nOur Craft & Chat session starts at 10.30am – 12.30pm. £3.00. \nEveryone is welcome to come and bring their own craft. We can also set up tables for games if anyone wants to come to play games/jigsaws or come and chat with friends over coffee – like our Friday Cafe but on a Monday! Ask us for details.
URL:https://www.thebeaconcentre.org/whatson/craft-chat/
LOCATION:The Beacon Centre
CATEGORIES:Creative
ATTACH;FMTTYPE=image/webp:https://www.thebeaconcentre.org/wp-content/uploads/2024/01/craft-and-chat.webp
END:VEVENT
BEGIN:VEVENT
DTSTART;TZID=UTC:20240125T183000
DTEND;TZID=UTC:20240125T193000
DTSTAMP:20260423T083251
CREATED:20240124T145932Z
LAST-MODIFIED:20240124T151004Z
UID:10000002-1706207400-1706211000@www.thebeaconcentre.org
SUMMARY:Body Workout With Kamila
DESCRIPTION:Classes are scientifically-proven to boost motivation and keep your commitment running high to improve your general fitness as well as complementing other sports or activities that you love.
URL:https://www.thebeaconcentre.org/whatson/body-workout-with-kamila/
LOCATION:The Beacon Centre
CATEGORIES:Health & Wellness
ATTACH;FMTTYPE=image/webp:https://www.thebeaconcentre.org/wp-content/uploads/2024/01/groupfitness.webp
ORGANIZER;CN="Kamila Ozga":MAILTO:Kamilaozga123@gmail.com
END:VEVENT
END:VCALENDAR