BEGIN:VCALENDAR
VERSION:2.0
PRODID:-//The Beacon - ECPv6.15.20//NONSGML v1.0//EN
CALSCALE:GREGORIAN
METHOD:PUBLISH
X-WR-CALNAME:The Beacon
X-ORIGINAL-URL:https://www.thebeaconcentre.org
X-WR-CALDESC:Events for The Beacon
REFRESH-INTERVAL;VALUE=DURATION:PT1H
X-Robots-Tag:noindex
X-PUBLISHED-TTL:PT1H
BEGIN:VTIMEZONE
TZID:Europe/London
BEGIN:DAYLIGHT
TZOFFSETFROM:+0000
TZOFFSETTO:+0100
TZNAME:BST
DTSTART:20250330T010000
END:DAYLIGHT
BEGIN:STANDARD
TZOFFSETFROM:+0100
TZOFFSETTO:+0000
TZNAME:GMT
DTSTART:20251026T010000
END:STANDARD
BEGIN:DAYLIGHT
TZOFFSETFROM:+0000
TZOFFSETTO:+0100
TZNAME:BST
DTSTART:20260329T010000
END:DAYLIGHT
BEGIN:STANDARD
TZOFFSETFROM:+0100
TZOFFSETTO:+0000
TZNAME:GMT
DTSTART:20261025T010000
END:STANDARD
BEGIN:DAYLIGHT
TZOFFSETFROM:+0000
TZOFFSETTO:+0100
TZNAME:BST
DTSTART:20270328T010000
END:DAYLIGHT
BEGIN:STANDARD
TZOFFSETFROM:+0100
TZOFFSETTO:+0000
TZNAME:GMT
DTSTART:20271031T010000
END:STANDARD
END:VTIMEZONE
BEGIN:VTIMEZONE
TZID:UTC
BEGIN:STANDARD
TZOFFSETFROM:+0000
TZOFFSETTO:+0000
TZNAME:UTC
DTSTART:20250101T000000
END:STANDARD
END:VTIMEZONE
BEGIN:VEVENT
DTSTART;TZID=Europe/London:20260703T090000
DTEND;TZID=Europe/London:20260703T120000
DTSTAMP:20260419T190929
CREATED:20240124T150838Z
LAST-MODIFIED:20240229T125218Z
UID:10000133-1783069200-1783080000@www.thebeaconcentre.org
SUMMARY:Friday Cafe
DESCRIPTION:Our Friday Cafe is held in Hobnob Hall\, a light welcoming hall with two pool tables and plenty of sofas to relax on with a knitting table and a jigsaw/games table.   Exeter Foodbank\, plus free Tesco surplus food. All welcome at the Cafe\, 10am till 12noon!
URL:https://www.thebeaconcentre.org/whatson/friday-cafe/2026-07-03/
LOCATION:The Beacon Centre
CATEGORIES:Socialising
ATTACH;FMTTYPE=image/webp:https://www.thebeaconcentre.org/wp-content/uploads/2024/01/IMG_7523-copy.webp
END:VEVENT
BEGIN:VEVENT
DTSTART;TZID=UTC:20260706T103000
DTEND;TZID=UTC:20260706T123000
DTSTAMP:20260419T190929
CREATED:20240318T151238Z
LAST-MODIFIED:20240318T151238Z
UID:10001239-1783333800-1783341000@www.thebeaconcentre.org
SUMMARY:Craft & Chat
DESCRIPTION:WHEN: Mondays: 10:30am – 12:30pm. £3.00 per session. \nCome along on a Monday morning and join a friendly group who love crafting and chatting! \nIt’s a very simple idea\, bring your craft along and chat with other crafters over a cuppa. This takes place in our light and airy Hobnob Hall which is a relaxed space with tables and plenty of sofas. It costs just £3.00 a session\, anyone unable to pay please speak to Kate\, our centre manager. \nWe can also set up tables for games if anyone wants to come to play games/jigsaws.
URL:https://www.thebeaconcentre.org/whatson/craft-chat-2/2026-07-06/
LOCATION:The Beacon Centre
CATEGORIES:Socialising,Community
ATTACH;FMTTYPE=image/jpeg:https://www.thebeaconcentre.org/wp-content/uploads/2022/03/creative-woman-making-collage-2023-11-27-05-24-20-utc-Large.jpeg
END:VEVENT
BEGIN:VEVENT
DTSTART;TZID=UTC:20260707T150000
DTEND;TZID=UTC:20260707T163000
DTSTAMP:20260419T190929
CREATED:20240924T122511Z
LAST-MODIFIED:20250922T113730Z
UID:10005004-1783436400-1783441800@www.thebeaconcentre.org
SUMMARY:The Hub Youth group
DESCRIPTION:Join us for music\, games\, pool tables\, table tennis\, dodgeball\, Xbox & PlayStation\, our tuck shop and homemade cakes. \n\n\n\n\nFor years 7-11\, term time Tuesdays from 3pm-4.30pm. \nContact Sim by email: office@iscachurch.org\,uk for more details
URL:https://www.thebeaconcentre.org/whatson/the-hub-youth-group/2026-07-07/
LOCATION:The Beacon Centre
CATEGORIES:Socialising,Community,Youth
ATTACH;FMTTYPE=image/webp:https://www.thebeaconcentre.org/wp-content/uploads/2021/12/The_Hub.webp
END:VEVENT
BEGIN:VEVENT
DTSTART;TZID=Europe/London:20260710T090000
DTEND;TZID=Europe/London:20260710T120000
DTSTAMP:20260419T190929
CREATED:20240124T150838Z
LAST-MODIFIED:20240229T125218Z
UID:10000134-1783674000-1783684800@www.thebeaconcentre.org
SUMMARY:Friday Cafe
DESCRIPTION:Our Friday Cafe is held in Hobnob Hall\, a light welcoming hall with two pool tables and plenty of sofas to relax on with a knitting table and a jigsaw/games table.   Exeter Foodbank\, plus free Tesco surplus food. All welcome at the Cafe\, 10am till 12noon!
URL:https://www.thebeaconcentre.org/whatson/friday-cafe/2026-07-10/
LOCATION:The Beacon Centre
CATEGORIES:Socialising
ATTACH;FMTTYPE=image/webp:https://www.thebeaconcentre.org/wp-content/uploads/2024/01/IMG_7523-copy.webp
END:VEVENT
BEGIN:VEVENT
DTSTART;TZID=UTC:20260713T103000
DTEND;TZID=UTC:20260713T123000
DTSTAMP:20260419T190929
CREATED:20240318T151238Z
LAST-MODIFIED:20240318T151238Z
UID:10001240-1783938600-1783945800@www.thebeaconcentre.org
SUMMARY:Craft & Chat
DESCRIPTION:WHEN: Mondays: 10:30am – 12:30pm. £3.00 per session. \nCome along on a Monday morning and join a friendly group who love crafting and chatting! \nIt’s a very simple idea\, bring your craft along and chat with other crafters over a cuppa. This takes place in our light and airy Hobnob Hall which is a relaxed space with tables and plenty of sofas. It costs just £3.00 a session\, anyone unable to pay please speak to Kate\, our centre manager. \nWe can also set up tables for games if anyone wants to come to play games/jigsaws.
URL:https://www.thebeaconcentre.org/whatson/craft-chat-2/2026-07-13/
LOCATION:The Beacon Centre
CATEGORIES:Socialising,Community
ATTACH;FMTTYPE=image/jpeg:https://www.thebeaconcentre.org/wp-content/uploads/2022/03/creative-woman-making-collage-2023-11-27-05-24-20-utc-Large.jpeg
END:VEVENT
BEGIN:VEVENT
DTSTART;TZID=UTC:20260714T150000
DTEND;TZID=UTC:20260714T163000
DTSTAMP:20260419T190929
CREATED:20240924T122511Z
LAST-MODIFIED:20250922T113730Z
UID:10005005-1784041200-1784046600@www.thebeaconcentre.org
SUMMARY:The Hub Youth group
DESCRIPTION:Join us for music\, games\, pool tables\, table tennis\, dodgeball\, Xbox & PlayStation\, our tuck shop and homemade cakes. \n\n\n\n\nFor years 7-11\, term time Tuesdays from 3pm-4.30pm. \nContact Sim by email: office@iscachurch.org\,uk for more details
URL:https://www.thebeaconcentre.org/whatson/the-hub-youth-group/2026-07-14/
LOCATION:The Beacon Centre
CATEGORIES:Socialising,Community,Youth
ATTACH;FMTTYPE=image/webp:https://www.thebeaconcentre.org/wp-content/uploads/2021/12/The_Hub.webp
END:VEVENT
BEGIN:VEVENT
DTSTART;TZID=Europe/London:20260717T090000
DTEND;TZID=Europe/London:20260717T120000
DTSTAMP:20260419T190929
CREATED:20240124T150838Z
LAST-MODIFIED:20240229T125218Z
UID:10000135-1784278800-1784289600@www.thebeaconcentre.org
SUMMARY:Friday Cafe
DESCRIPTION:Our Friday Cafe is held in Hobnob Hall\, a light welcoming hall with two pool tables and plenty of sofas to relax on with a knitting table and a jigsaw/games table.   Exeter Foodbank\, plus free Tesco surplus food. All welcome at the Cafe\, 10am till 12noon!
URL:https://www.thebeaconcentre.org/whatson/friday-cafe/2026-07-17/
LOCATION:The Beacon Centre
CATEGORIES:Socialising
ATTACH;FMTTYPE=image/webp:https://www.thebeaconcentre.org/wp-content/uploads/2024/01/IMG_7523-copy.webp
END:VEVENT
BEGIN:VEVENT
DTSTART;TZID=UTC:20260720T103000
DTEND;TZID=UTC:20260720T123000
DTSTAMP:20260419T190929
CREATED:20240318T151238Z
LAST-MODIFIED:20240318T151238Z
UID:10001241-1784543400-1784550600@www.thebeaconcentre.org
SUMMARY:Craft & Chat
DESCRIPTION:WHEN: Mondays: 10:30am – 12:30pm. £3.00 per session. \nCome along on a Monday morning and join a friendly group who love crafting and chatting! \nIt’s a very simple idea\, bring your craft along and chat with other crafters over a cuppa. This takes place in our light and airy Hobnob Hall which is a relaxed space with tables and plenty of sofas. It costs just £3.00 a session\, anyone unable to pay please speak to Kate\, our centre manager. \nWe can also set up tables for games if anyone wants to come to play games/jigsaws.
URL:https://www.thebeaconcentre.org/whatson/craft-chat-2/2026-07-20/
LOCATION:The Beacon Centre
CATEGORIES:Socialising,Community
ATTACH;FMTTYPE=image/jpeg:https://www.thebeaconcentre.org/wp-content/uploads/2022/03/creative-woman-making-collage-2023-11-27-05-24-20-utc-Large.jpeg
END:VEVENT
BEGIN:VEVENT
DTSTART;TZID=UTC:20260721T150000
DTEND;TZID=UTC:20260721T163000
DTSTAMP:20260419T190929
CREATED:20240924T122511Z
LAST-MODIFIED:20250922T113730Z
UID:10005006-1784646000-1784651400@www.thebeaconcentre.org
SUMMARY:The Hub Youth group
DESCRIPTION:Join us for music\, games\, pool tables\, table tennis\, dodgeball\, Xbox & PlayStation\, our tuck shop and homemade cakes. \n\n\n\n\nFor years 7-11\, term time Tuesdays from 3pm-4.30pm. \nContact Sim by email: office@iscachurch.org\,uk for more details
URL:https://www.thebeaconcentre.org/whatson/the-hub-youth-group/2026-07-21/
LOCATION:The Beacon Centre
CATEGORIES:Socialising,Community,Youth
ATTACH;FMTTYPE=image/webp:https://www.thebeaconcentre.org/wp-content/uploads/2021/12/The_Hub.webp
END:VEVENT
BEGIN:VEVENT
DTSTART;TZID=Europe/London:20260724T090000
DTEND;TZID=Europe/London:20260724T120000
DTSTAMP:20260419T190929
CREATED:20240124T150838Z
LAST-MODIFIED:20240229T125218Z
UID:10000136-1784883600-1784894400@www.thebeaconcentre.org
SUMMARY:Friday Cafe
DESCRIPTION:Our Friday Cafe is held in Hobnob Hall\, a light welcoming hall with two pool tables and plenty of sofas to relax on with a knitting table and a jigsaw/games table.   Exeter Foodbank\, plus free Tesco surplus food. All welcome at the Cafe\, 10am till 12noon!
URL:https://www.thebeaconcentre.org/whatson/friday-cafe/2026-07-24/
LOCATION:The Beacon Centre
CATEGORIES:Socialising
ATTACH;FMTTYPE=image/webp:https://www.thebeaconcentre.org/wp-content/uploads/2024/01/IMG_7523-copy.webp
END:VEVENT
BEGIN:VEVENT
DTSTART;TZID=UTC:20260727T103000
DTEND;TZID=UTC:20260727T123000
DTSTAMP:20260419T190929
CREATED:20240318T151238Z
LAST-MODIFIED:20240318T151238Z
UID:10001242-1785148200-1785155400@www.thebeaconcentre.org
SUMMARY:Craft & Chat
DESCRIPTION:WHEN: Mondays: 10:30am – 12:30pm. £3.00 per session. \nCome along on a Monday morning and join a friendly group who love crafting and chatting! \nIt’s a very simple idea\, bring your craft along and chat with other crafters over a cuppa. This takes place in our light and airy Hobnob Hall which is a relaxed space with tables and plenty of sofas. It costs just £3.00 a session\, anyone unable to pay please speak to Kate\, our centre manager. \nWe can also set up tables for games if anyone wants to come to play games/jigsaws.
URL:https://www.thebeaconcentre.org/whatson/craft-chat-2/2026-07-27/
LOCATION:The Beacon Centre
CATEGORIES:Socialising,Community
ATTACH;FMTTYPE=image/jpeg:https://www.thebeaconcentre.org/wp-content/uploads/2022/03/creative-woman-making-collage-2023-11-27-05-24-20-utc-Large.jpeg
END:VEVENT
BEGIN:VEVENT
DTSTART;TZID=Europe/London:20260731T090000
DTEND;TZID=Europe/London:20260731T120000
DTSTAMP:20260419T190929
CREATED:20240124T150838Z
LAST-MODIFIED:20240229T125218Z
UID:10000137-1785488400-1785499200@www.thebeaconcentre.org
SUMMARY:Friday Cafe
DESCRIPTION:Our Friday Cafe is held in Hobnob Hall\, a light welcoming hall with two pool tables and plenty of sofas to relax on with a knitting table and a jigsaw/games table.   Exeter Foodbank\, plus free Tesco surplus food. All welcome at the Cafe\, 10am till 12noon!
URL:https://www.thebeaconcentre.org/whatson/friday-cafe/2026-07-31/
LOCATION:The Beacon Centre
CATEGORIES:Socialising
ATTACH;FMTTYPE=image/webp:https://www.thebeaconcentre.org/wp-content/uploads/2024/01/IMG_7523-copy.webp
END:VEVENT
END:VCALENDAR