BEGIN:VCALENDAR
VERSION:2.0
PRODID:-//The Beacon - ECPv6.15.20//NONSGML v1.0//EN
CALSCALE:GREGORIAN
METHOD:PUBLISH
X-ORIGINAL-URL:https://www.thebeaconcentre.org
X-WR-CALDESC:Events for The Beacon
REFRESH-INTERVAL;VALUE=DURATION:PT1H
X-Robots-Tag:noindex
X-PUBLISHED-TTL:PT1H
BEGIN:VTIMEZONE
TZID:UTC
BEGIN:STANDARD
TZOFFSETFROM:+0000
TZOFFSETTO:+0000
TZNAME:UTC
DTSTART:20230101T000000
END:STANDARD
END:VTIMEZONE
BEGIN:VEVENT
DTSTART;TZID=UTC:20240126T090000
DTEND;TZID=UTC:20240126T120000
DTSTAMP:20260423T123931
CREATED:20240124T151948Z
LAST-MODIFIED:20240124T151949Z
UID:10000004-1706259600-1706270400@www.thebeaconcentre.org
SUMMARY:Craft & Chat
DESCRIPTION:Come along on a Monday morning and join a friendly group who love crafting and chatting! \nOur Craft & Chat session starts at 10.30am – 12.30pm. £3.00. \nEveryone is welcome to come and bring their own craft. We can also set up tables for games if anyone wants to come to play games/jigsaws or come and chat with friends over coffee – like our Friday Cafe but on a Monday! Ask us for details.
URL:https://www.thebeaconcentre.org/whatson/craft-chat/
LOCATION:The Beacon Centre
CATEGORIES:Creative
ATTACH;FMTTYPE=image/webp:https://www.thebeaconcentre.org/wp-content/uploads/2024/01/craft-and-chat.webp
END:VEVENT
END:VCALENDAR