BEGIN:VCALENDAR
VERSION:2.0
PRODID:-//The Beacon - ECPv6.15.20//NONSGML v1.0//EN
CALSCALE:GREGORIAN
METHOD:PUBLISH
X-ORIGINAL-URL:https://www.thebeaconcentre.org
X-WR-CALDESC:Events for The Beacon
REFRESH-INTERVAL;VALUE=DURATION:PT1H
X-Robots-Tag:noindex
X-PUBLISHED-TTL:PT1H
BEGIN:VTIMEZONE
TZID:UTC
BEGIN:STANDARD
TZOFFSETFROM:+0000
TZOFFSETTO:+0000
TZNAME:UTC
DTSTART:20250101T000000
END:STANDARD
END:VTIMEZONE
BEGIN:VEVENT
DTSTART;TZID=UTC:20260420T103000
DTEND;TZID=UTC:20260420T123000
DTSTAMP:20260419T154125
CREATED:20240318T151238Z
LAST-MODIFIED:20240318T151238Z
UID:10001228-1776681000-1776688200@www.thebeaconcentre.org
SUMMARY:Craft & Chat
DESCRIPTION:WHEN: Mondays: 10:30am – 12:30pm. £3.00 per session. \nCome along on a Monday morning and join a friendly group who love crafting and chatting! \nIt’s a very simple idea\, bring your craft along and chat with other crafters over a cuppa. This takes place in our light and airy Hobnob Hall which is a relaxed space with tables and plenty of sofas. It costs just £3.00 a session\, anyone unable to pay please speak to Kate\, our centre manager. \nWe can also set up tables for games if anyone wants to come to play games/jigsaws.
URL:https://www.thebeaconcentre.org/whatson/craft-chat-2/2026-04-20/
LOCATION:The Beacon Centre
CATEGORIES:Socialising,Community
ATTACH;FMTTYPE=image/jpeg:https://www.thebeaconcentre.org/wp-content/uploads/2022/03/creative-woman-making-collage-2023-11-27-05-24-20-utc-Large.jpeg
END:VEVENT
BEGIN:VEVENT
DTSTART;TZID=UTC:20260421T103000
DTEND;TZID=UTC:20260421T113000
DTSTAMP:20260419T154125
CREATED:20240626T131310Z
LAST-MODIFIED:20240626T131518Z
UID:10001498-1776767400-1776771000@www.thebeaconcentre.org
SUMMARY:Over 60s Yoga
DESCRIPTION:An 8 week course encourages you to establish a yoga routine\, specifically designed to help build muscle strength to reduce joint pain\, increase flexibility\, mobility\, coordination and balance. Relaxation and breathing techniques to help cope with day-to-day pain\, reduce stress and calm the mind. \nWhen: Tuesdays: 10:30am – 11.30am \nWhere:  The Beacon Centre\, Pendragon House\,  Beacon Lane\, Exeter\, EX4 8LZ \nPrices : 8 week course £66 \nBooking and payment in advance of course by bank transfer or cash. If you are new to yoga and would like to try a taster session for £10 to decide if you would like to sign up for the 8 week course. Spaces are limited to 10 people for the Over 60’s class\, to avoid disappointment please book in advance\, sadly spaces cannot be held without full payment. \nAbout the Classes \nWe are all becoming increasingly aware of the importance of keeping the mind and body healthy and active to prevent illness and promote wellbeing. Designed for all levels of health\, starting off at a slow pace working within your own comfort level. \n*Please note these courses are aimed at teaching people how to get in touch with their body and understand how the body works for good health\, rather than a general “keep fit class”. Yoga classes are not substitutes for specialist support\, psychotherapy\, support group\, clinical or medical services. \nWhat to wear? It is best to wear loose fitting trousers and a top\, something that has some stretch in it so you are able to move comfortably. Socks to keep your feet warm.
URL:https://www.thebeaconcentre.org/whatson/over-60s-yoga/2026-04-21/
LOCATION:The Beacon Centre
CATEGORIES:Health & Wellness,Community
ATTACH;FMTTYPE=image/jpeg:https://www.thebeaconcentre.org/wp-content/uploads/2023/08/selective-focus-of-multicultural-athletes-synchron-2023-11-27-05-33-34-utc-Large.jpeg
END:VEVENT
BEGIN:VEVENT
DTSTART;TZID=UTC:20260421T150000
DTEND;TZID=UTC:20260421T163000
DTSTAMP:20260419T154125
CREATED:20240924T122511Z
LAST-MODIFIED:20250922T113730Z
UID:10004994-1776783600-1776789000@www.thebeaconcentre.org
SUMMARY:The Hub Youth group
DESCRIPTION:Join us for music\, games\, pool tables\, table tennis\, dodgeball\, Xbox & PlayStation\, our tuck shop and homemade cakes. \n\n\n\n\nFor years 7-11\, term time Tuesdays from 3pm-4.30pm. \nContact Sim by email: office@iscachurch.org\,uk for more details
URL:https://www.thebeaconcentre.org/whatson/the-hub-youth-group/2026-04-21/
LOCATION:The Beacon Centre
CATEGORIES:Socialising,Community,Youth
ATTACH;FMTTYPE=image/webp:https://www.thebeaconcentre.org/wp-content/uploads/2021/12/The_Hub.webp
END:VEVENT
BEGIN:VEVENT
DTSTART;TZID=UTC:20260427T103000
DTEND;TZID=UTC:20260427T123000
DTSTAMP:20260419T154125
CREATED:20240318T151238Z
LAST-MODIFIED:20240318T151238Z
UID:10001229-1777285800-1777293000@www.thebeaconcentre.org
SUMMARY:Craft & Chat
DESCRIPTION:WHEN: Mondays: 10:30am – 12:30pm. £3.00 per session. \nCome along on a Monday morning and join a friendly group who love crafting and chatting! \nIt’s a very simple idea\, bring your craft along and chat with other crafters over a cuppa. This takes place in our light and airy Hobnob Hall which is a relaxed space with tables and plenty of sofas. It costs just £3.00 a session\, anyone unable to pay please speak to Kate\, our centre manager. \nWe can also set up tables for games if anyone wants to come to play games/jigsaws.
URL:https://www.thebeaconcentre.org/whatson/craft-chat-2/2026-04-27/
LOCATION:The Beacon Centre
CATEGORIES:Socialising,Community
ATTACH;FMTTYPE=image/jpeg:https://www.thebeaconcentre.org/wp-content/uploads/2022/03/creative-woman-making-collage-2023-11-27-05-24-20-utc-Large.jpeg
END:VEVENT
BEGIN:VEVENT
DTSTART;TZID=UTC:20260428T103000
DTEND;TZID=UTC:20260428T113000
DTSTAMP:20260419T154125
CREATED:20240626T131310Z
LAST-MODIFIED:20240626T131518Z
UID:10001499-1777372200-1777375800@www.thebeaconcentre.org
SUMMARY:Over 60s Yoga
DESCRIPTION:An 8 week course encourages you to establish a yoga routine\, specifically designed to help build muscle strength to reduce joint pain\, increase flexibility\, mobility\, coordination and balance. Relaxation and breathing techniques to help cope with day-to-day pain\, reduce stress and calm the mind. \nWhen: Tuesdays: 10:30am – 11.30am \nWhere:  The Beacon Centre\, Pendragon House\,  Beacon Lane\, Exeter\, EX4 8LZ \nPrices : 8 week course £66 \nBooking and payment in advance of course by bank transfer or cash. If you are new to yoga and would like to try a taster session for £10 to decide if you would like to sign up for the 8 week course. Spaces are limited to 10 people for the Over 60’s class\, to avoid disappointment please book in advance\, sadly spaces cannot be held without full payment. \nAbout the Classes \nWe are all becoming increasingly aware of the importance of keeping the mind and body healthy and active to prevent illness and promote wellbeing. Designed for all levels of health\, starting off at a slow pace working within your own comfort level. \n*Please note these courses are aimed at teaching people how to get in touch with their body and understand how the body works for good health\, rather than a general “keep fit class”. Yoga classes are not substitutes for specialist support\, psychotherapy\, support group\, clinical or medical services. \nWhat to wear? It is best to wear loose fitting trousers and a top\, something that has some stretch in it so you are able to move comfortably. Socks to keep your feet warm.
URL:https://www.thebeaconcentre.org/whatson/over-60s-yoga/2026-04-28/
LOCATION:The Beacon Centre
CATEGORIES:Health & Wellness,Community
ATTACH;FMTTYPE=image/jpeg:https://www.thebeaconcentre.org/wp-content/uploads/2023/08/selective-focus-of-multicultural-athletes-synchron-2023-11-27-05-33-34-utc-Large.jpeg
END:VEVENT
BEGIN:VEVENT
DTSTART;TZID=UTC:20260428T150000
DTEND;TZID=UTC:20260428T163000
DTSTAMP:20260419T154125
CREATED:20240924T122511Z
LAST-MODIFIED:20250922T113730Z
UID:10004995-1777388400-1777393800@www.thebeaconcentre.org
SUMMARY:The Hub Youth group
DESCRIPTION:Join us for music\, games\, pool tables\, table tennis\, dodgeball\, Xbox & PlayStation\, our tuck shop and homemade cakes. \n\n\n\n\nFor years 7-11\, term time Tuesdays from 3pm-4.30pm. \nContact Sim by email: office@iscachurch.org\,uk for more details
URL:https://www.thebeaconcentre.org/whatson/the-hub-youth-group/2026-04-28/
LOCATION:The Beacon Centre
CATEGORIES:Socialising,Community,Youth
ATTACH;FMTTYPE=image/webp:https://www.thebeaconcentre.org/wp-content/uploads/2021/12/The_Hub.webp
END:VEVENT
END:VCALENDAR